BEGIN:VCALENDAR
VERSION:2.0
PRODID:-//OmniMagnetCalendar//EN
BEGIN:VEVENT
DTSTAMP:20190625T195740Z
STATUS:CONFIRMED
UID:hcbrowardcounty.clubs.harvard.edu425
DTSTART:20260423T220000Z
DTEND:20260424T000000Z
LOCATION:Tideline Palm Beach Ocean Resort & Spa, 2842 South Ocean Blvd, Palm Beach, FL, 33480,
SUMMARY:HC Palm Beach: Crimson Conversations - AI and Supply Chain with Benjamin Gordon
DESCRIPTION:Join local Crimson for a conversation with Benjamin Gordon (MBA '00), founder and Managing Partner of Cambridge Capital, on how supply chains really work—and how they’re changing right now.
BEGIN:VALARM
TRIGGER:-PT15M
ACTION:DISPLAY
END:VALARM
TRANSP:OPAQUE
END:VEVENT
END:VCALENDAR
