BEGIN:VCALENDAR
VERSION:2.0
PRODID:-//OmniMagnetCalendar//EN
BEGIN:VEVENT
DTSTAMP:20190625T195740Z
STATUS:CONFIRMED
UID:hcbrowardcounty.clubs.harvard.edu213
DTSTART:20200112T220000Z
DTEND:20200112T220000Z
LOCATION:The Home of Dr. Robb and Lisa Wilentz, 11 Seneca Road, Sea Ranch Lakes, FL, USA,
SUMMARY:2019-2020 Annual Winter Party
DESCRIPTION:You are invited to come and kick off the Crimson New Year with us at the Harvard Club of Broward County annual winter party. Special guests include area alumni, current students, early action students from the Class of 2024, and the Radcliffe Pitches.
BEGIN:VALARM
TRIGGER:-PT15M
ACTION:DISPLAY
END:VALARM
TRANSP:OPAQUE
END:VEVENT
END:VCALENDAR
