BEGIN:VCALENDAR
VERSION:2.0
PRODID:-//OmniMagnetCalendar//EN
BEGIN:VEVENT
DTSTAMP:20190625T195740Z
STATUS:CONFIRMED
UID:hcbrowardcounty.clubs.harvard.edu200
DTSTART:20180913T153000Z
DTEND:20180913T173000Z
LOCATION:Home of Dr. Tracey H. Stokes, 3201 NE 31st Avenue, Lighthouse Point, FL, 33064, USA,
SUMMARY:Open Board and Organizational Meeting
DESCRIPTION:
BEGIN:VALARM
TRIGGER:-PT15M
ACTION:DISPLAY
END:VALARM
TRANSP:OPAQUE
END:VEVENT
END:VCALENDAR
