BEGIN:VCALENDAR
VERSION:2.0
PRODID:-//OmniMagnetCalendar//EN
BEGIN:VEVENT
DTSTAMP:20190625T195740Z
STATUS:CONFIRMED
UID:hcbrowardcounty.clubs.harvard.edu175
DTSTART:20170222T160000Z
DTEND:20170222T183000Z
LOCATION:Tap 42, 1411 S. Andrews Avenue, Fort Lauderdale, FL, 33316, USA,
SUMMARY:MIX AND MINGLE AT TAP 42!
DESCRIPTION:Please join your fellow alumni to catch up, mix, match and mingle. Hosted and jointly sponsored by the Yale Club of South Florida, Cornell, Dartmouth, Harvard, MIT and Penn alumni clubs.
BEGIN:VALARM
TRIGGER:-PT15M
ACTION:DISPLAY
END:VALARM
TRANSP:OPAQUE
END:VEVENT
END:VCALENDAR
