BEGIN:VCALENDAR
VERSION:2.0
PRODID:-//OmniMagnetCalendar//EN
BEGIN:VEVENT
DTSTAMP:20190625T195740Z
STATUS:CONFIRMED
UID:hcbrowardcounty.clubs.harvard.edu193
DTSTART:20180201T163000Z
DTEND:20180201T183000Z
LOCATION:Woodfield Country Club, 3600 Club Place, Boca Raton, FL, 33496, USA,
SUMMARY:2018 Harvard Speakers Bureau Event - Professor Amy C. Edmondson
DESCRIPTION:Don't miss this event in Boca Raton - Tickets are on sale now - Seating is limited - Last Year's Event Was Sold Out!
BEGIN:VALARM
TRIGGER:-PT15M
ACTION:DISPLAY
END:VALARM
TRANSP:OPAQUE
END:VEVENT
END:VCALENDAR
